BEGIN:VCALENDAR
VERSION:2.0
PRODID:-//ChamberMaster//Event Calendar 2.0//EN
METHOD:PUBLISH
X-PUBLISHED-TTL:P1H
REFRESH-INTERVAL:P1H
CALSCALE:GREGORIAN
BEGIN:VTIMEZONE
TZID:America/Phoenix
BEGIN:DAYLIGHT
DTSTART:20070311T020000
TZOFFSETFROM:-0700
TZOFFSETTO:-0700
TZNAME:(UTC-07:00) Arizona
END:DAYLIGHT
BEGIN:STANDARD
DTSTART:20071104T020000
TZOFFSETFROM:-0700
TZOFFSETTO:-0700
TZNAME:(UTC-07:00) Arizona
END:STANDARD
END:VTIMEZONE
BEGIN:VEVENT
DTSTART;TZID=America/Phoenix:20260505T090000
DTEND;TZID=America/Phoenix:20260505T100000
X-MICROSOFT-CDO-ALLDAYEVENT:FALSE
SUMMARY:Understanding federal taxes for small businesses
DESCRIPTION:This free\, 60-minute virtual webinar is open to all where IRS will discuss: IRS Resources for Small BusinessesForm 1040 Schedule COne Big Beautiful Bill ActIRS Online AccountsChoosing a Tax ProfessionalBeware of Scams and Safeguard InformationStart Tax Planning TodayPlus\, a live Q & A Questions? Email us at cl.sl.area.6@irs.govClick here to RegisterSponsored by: IRS Stakeholder Liaison Date: 5/5/2026\nTime: 12 p.m. Eastern\, 11 a.m. Central\, 10 a.m. Mountain\, 9 a.m. Arizona and Pacific\, 8 a.m. Alaska\, 7 a.m. Hawaii
X-ALT-DESC;FMTTYPE=text/html:<!DOCTYPE html><html><head><title></title></head><body aria-disabled="false"><p style='color: rgb(36\, 36\, 36)\; font-family: "Segoe UI"\, "Segoe UI Web (West European)"\, -apple-system\, BlinkMacSystemFont\, Roboto\, "Helvetica Neue"\, sans-serif\; font-size: 15px\; font-style: normal\; font-variant-ligatures: normal\; font-variant-caps: normal\; font-weight: 400\; letter-spacing: normal\; orphans: 2\; text-indent: 0px\; text-transform: none\; widows: 2\; word-spacing: 0px\; -webkit-text-stroke-width: 0px\; white-space: normal\; text-decoration-thickness: initial\; text-decoration-style: initial\; text-decoration-color: initial\; text-align: left\; background-color: white\; margin: 0px\;'><span style="border: 0px\; font-style: inherit\; font-variant: inherit\; font-weight: inherit\; font-stretch: inherit\; font-size: 11pt\; line-height: inherit\; font-family: Aptos\, sans-serif\; font-optical-sizing: inherit\; font-size-adjust: inherit\; font-kerning: inherit\; font-feature-settings: inherit\; font-variation-settings: inherit\; font-language-override: inherit\; margin: 0px\; padding: 0px\; vertical-align: baseline\; color: rgb(36\, 36\, 36)\;"><b data-olk-copy-source="MessageBody">&nbsp\;</b></span></p><p style='color: rgb(36\, 36\, 36)\; font-family: "Segoe UI"\, "Segoe UI Web (West European)"\, -apple-system\, BlinkMacSystemFont\, Roboto\, "Helvetica Neue"\, sans-serif\; font-size: 15px\; font-style: normal\; font-variant-ligatures: normal\; font-variant-caps: normal\; font-weight: 400\; letter-spacing: normal\; orphans: 2\; text-indent: 0px\; text-transform: none\; widows: 2\; word-spacing: 0px\; -webkit-text-stroke-width: 0px\; white-space: normal\; text-decoration-thickness: initial\; text-decoration-style: initial\; text-decoration-color: initial\; text-align: left\; background-color: white\; margin: 0px\;'><span style="border: 0px\; font-style: inherit\; font-variant: inherit\; font-weight: inherit\; font-stretch: inherit\; font-size: 11pt\; line-height: inherit\; font-family: Aptos\, sans-serif\; font-optical-sizing: inherit\; font-size-adjust: inherit\; font-kerning: inherit\; font-feature-settings: inherit\; font-variation-settings: inherit\; font-language-override: inherit\; margin: 0px\; padding: 0px\; vertical-align: baseline\; color: rgb(36\, 36\, 36)\;">This free\, 60-minute virtual webinar is open to all where IRS will discuss:</span></p><p style='color: rgb(36\, 36\, 36)\; font-family: "Segoe UI"\, "Segoe UI Web (West European)"\, -apple-system\, BlinkMacSystemFont\, Roboto\, "Helvetica Neue"\, sans-serif\; font-size: 15px\; font-style: normal\; font-variant-ligatures: normal\; font-variant-caps: normal\; font-weight: 400\; letter-spacing: normal\; orphans: 2\; text-indent: 0px\; text-transform: none\; widows: 2\; word-spacing: 0px\; -webkit-text-stroke-width: 0px\; white-space: normal\; text-decoration-thickness: initial\; text-decoration-style: initial\; text-decoration-color: initial\; text-align: left\; background-color: white\; margin: 0px\;'><span style="border: 0px\; font-style: inherit\; font-variant: inherit\; font-weight: inherit\; font-stretch: inherit\; font-size: 11pt\; line-height: inherit\; font-family: Aptos\, sans-serif\; font-optical-sizing: inherit\; font-size-adjust: inherit\; font-kerning: inherit\; font-feature-settings: inherit\; font-variation-settings: inherit\; font-language-override: inherit\; margin: 0px\; padding: 0px\; vertical-align: baseline\; color: rgb(36\, 36\, 36)\;">&nbsp\;</span></p><ul fr-original-style='color: rgb(36\, 36\, 36)\; font-family: "Segoe UI"\, "Segoe UI Web (West European)"\, -apple-system\, BlinkMacSystemFont\, Roboto\, "Helvetica Neue"\, sans-serif\; font-size: 15px\; font-style: normal\; font-variant-ligatures: normal\; font-variant-caps: normal\; font-weight: 400\; letter-spacing: normal\; orphans: 2\; text-indent: 0px\; text-transform: none\; widows: 2\; word-spacing: 0px\; -webkit-text-stroke-width: 0px\; white-space: normal\; text-decoration-thickness: initial\; text-decoration-style: initial\; text-decoration-color: initial\; text-align: left\; background-color: white\; margin-top: 0px\; margin-bottom: 0px\;' style='color: rgb(36\, 36\, 36)\; font-family: "Segoe UI"\, "Segoe UI Web (West European)"\, -apple-system\, BlinkMacSystemFont\, Roboto\, "Helvetica Neue"\, sans-serif\; font-size: 15px\; font-style: normal\; font-variant-ligatures: normal\; font-variant-caps: normal\; font-weight: 400\; letter-spacing: normal\; orphans: 2\; text-indent: 0px\; text-transform: none\; widows: 2\; word-spacing: 0px\; -webkit-text-stroke-width: 0px\; white-space: normal\; text-decoration-thickness: initial\; text-decoration-style: initial\; text-decoration-color: initial\; text-align: left\; background-color: white\; margin-top: 0px\; margin-bottom: 0px\; list-style-position: inside\;'><li style="color: rgb(36\, 36\, 36)\; font-size: 12pt\; font-family: Aptos\, sans-serif\; margin: 0px\;"><span style="border: 0px\; font-style: inherit\; font-variant: inherit\; font-weight: inherit\; font-stretch: inherit\; font-size: 11pt\; line-height: inherit\; font-family: inherit\; font-optical-sizing: inherit\; font-size-adjust: inherit\; font-kerning: inherit\; font-feature-settings: inherit\; font-variation-settings: inherit\; font-language-override: inherit\; margin: 0px\; padding: 0px\; vertical-align: baseline\; color: inherit\;">IRS Resources for Small Businesses</span></li><li style="color: rgb(36\, 36\, 36)\; font-size: 12pt\; font-family: Aptos\, sans-serif\; margin: 0px\;"><span style="border: 0px\; font-style: inherit\; font-variant: inherit\; font-weight: inherit\; font-stretch: inherit\; font-size: 11pt\; line-height: inherit\; font-family: inherit\; font-optical-sizing: inherit\; font-size-adjust: inherit\; font-kerning: inherit\; font-feature-settings: inherit\; font-variation-settings: inherit\; font-language-override: inherit\; margin: 0px\; padding: 0px\; vertical-align: baseline\; color: inherit\;">Form 1040 Schedule C</span></li><li style="color: rgb(36\, 36\, 36)\; font-size: 12pt\; font-family: Aptos\, sans-serif\; margin: 0px\;"><span style="border: 0px\; font-style: inherit\; font-variant: inherit\; font-weight: inherit\; font-stretch: inherit\; font-size: 11pt\; line-height: inherit\; font-family: inherit\; font-optical-sizing: inherit\; font-size-adjust: inherit\; font-kerning: inherit\; font-feature-settings: inherit\; font-variation-settings: inherit\; font-language-override: inherit\; margin: 0px\; padding: 0px\; vertical-align: baseline\; color: inherit\;">One Big Beautiful Bill Act</span></li><li style="color: rgb(36\, 36\, 36)\; font-size: 12pt\; font-family: Aptos\, sans-serif\; margin: 0px\;"><span style="border: 0px\; font-style: inherit\; font-variant: inherit\; font-weight: inherit\; font-stretch: inherit\; font-size: 11pt\; line-height: inherit\; font-family: inherit\; font-optical-sizing: inherit\; font-size-adjust: inherit\; font-kerning: inherit\; font-feature-settings: inherit\; font-variation-settings: inherit\; font-language-override: inherit\; margin: 0px\; padding: 0px\; vertical-align: baseline\; color: inherit\;">IRS Online Accounts</span></li><li style="color: rgb(36\, 36\, 36)\; font-size: 12pt\; font-family: Aptos\, sans-serif\; margin: 0px\;"><span style="border: 0px\; font-style: inherit\; font-variant: inherit\; font-weight: inherit\; font-stretch: inherit\; font-size: 11pt\; line-height: inherit\; font-family: inherit\; font-optical-sizing: inherit\; font-size-adjust: inherit\; font-kerning: inherit\; font-feature-settings: inherit\; font-variation-settings: inherit\; font-language-override: inherit\; margin: 0px\; padding: 0px\; vertical-align: baseline\; color: inherit\;">Choosing a Tax Professional</span></li><li style="color: rgb(36\, 36\, 36)\; font-size: 12pt\; font-family: Aptos\, sans-serif\; margin: 0px\;"><span style="border: 0px\; font-style: inherit\; font-variant: inherit\; font-weight: inherit\; font-stretch: inherit\; font-size: 11pt\; line-height: inherit\; font-family: inherit\; font-optical-sizing: inherit\; font-size-adjust: inherit\; font-kerning: inherit\; font-feature-settings: inherit\; font-variation-settings: inherit\; font-language-override: inherit\; margin: 0px\; padding: 0px\; vertical-align: baseline\; color: inherit\;">Beware of Scams and Safeguard Information</span></li><li style="color: rgb(36\, 36\, 36)\; font-size: 12pt\; font-family: Aptos\, sans-serif\; margin: 0px\;"><span style="border: 0px\; font-style: inherit\; font-variant: inherit\; font-weight: inherit\; font-stretch: inherit\; font-size: 11pt\; line-height: inherit\; font-family: inherit\; font-optical-sizing: inherit\; font-size-adjust: inherit\; font-kerning: inherit\; font-feature-settings: inherit\; font-variation-settings: inherit\; font-language-override: inherit\; margin: 0px\; padding: 0px\; vertical-align: baseline\; color: inherit\;">Start Tax Planning Today</span></li><li style="color: rgb(36\, 36\, 36)\; font-size: 12pt\; font-family: Aptos\, sans-serif\; margin: 0px\;"><span style="border: 0px\; font-style: inherit\; font-variant: inherit\; font-weight: inherit\; font-stretch: inherit\; font-size: 11pt\; line-height: inherit\; font-family: inherit\; font-optical-sizing: inherit\; font-size-adjust: inherit\; font-kerning: inherit\; font-feature-settings: inherit\; font-variation-settings: inherit\; font-language-override: inherit\; margin: 0px\; padding: 0px\; vertical-align: baseline\; color: inherit\;">Plus\, a live Q &amp\; A</span></li></ul><p style='color: rgb(36\, 36\, 36)\; font-family: "Segoe UI"\, "Segoe UI Web (West European)"\, -apple-system\, BlinkMacSystemFont\, Roboto\, "Helvetica Neue"\, sans-serif\; font-size: 15px\; font-style: normal\; font-variant-ligatures: normal\; font-variant-caps: normal\; font-weight: 400\; letter-spacing: normal\; orphans: 2\; text-indent: 0px\; text-transform: none\; widows: 2\; word-spacing: 0px\; -webkit-text-stroke-width: 0px\; white-space: normal\; text-decoration-thickness: initial\; text-decoration-style: initial\; text-decoration-color: initial\; text-align: left\; background-color: white\; margin: 0px 0px 0px 18pt\;'><span style="border: 0px\; font-style: inherit\; font-variant: inherit\; font-weight: inherit\; font-stretch: inherit\; font-size: 11pt\; line-height: inherit\; font-family: Aptos\, sans-serif\; font-optical-sizing: inherit\; font-size-adjust: inherit\; font-kerning: inherit\; font-feature-settings: inherit\; font-variation-settings: inherit\; font-language-override: inherit\; margin: 0px\; padding: 0px\; vertical-align: baseline\; color: rgb(36\, 36\, 36)\;">&nbsp\;</span></p><p style='color: rgb(36\, 36\, 36)\; font-family: "Segoe UI"\, "Segoe UI Web (West European)"\, -apple-system\, BlinkMacSystemFont\, Roboto\, "Helvetica Neue"\, sans-serif\; font-size: 15px\; font-style: normal\; font-variant-ligatures: normal\; font-variant-caps: normal\; font-weight: 400\; letter-spacing: normal\; orphans: 2\; text-indent: 0px\; text-transform: none\; widows: 2\; word-spacing: 0px\; -webkit-text-stroke-width: 0px\; white-space: normal\; text-decoration-thickness: initial\; text-decoration-style: initial\; text-decoration-color: initial\; text-align: left\; background-color: white\; margin: 0px\;'><span style="border: 0px\; font-style: inherit\; font-variant: inherit\; font-weight: inherit\; font-stretch: inherit\; font-size: 11pt\; line-height: inherit\; font-family: Aptos\, sans-serif\; font-optical-sizing: inherit\; font-size-adjust: inherit\; font-kerning: inherit\; font-feature-settings: inherit\; font-variation-settings: inherit\; font-language-override: inherit\; margin: 0px\; padding: 0px\; vertical-align: baseline\; color: rgb(36\, 36\, 36)\;"><strong fr-original-style="" style="font-weight: 700\;">Questions?</strong> Email us at&nbsp\;</span><span style="border: 0px\; font-style: inherit\; font-variant: inherit\; font-weight: inherit\; font-stretch: inherit\; font-size: 11pt\; line-height: inherit\; font-family: Aptos\, sans-serif\; font-optical-sizing: inherit\; font-size-adjust: inherit\; font-kerning: inherit\; font-feature-settings: inherit\; font-variation-settings: inherit\; font-language-override: inherit\; margin: 0px\; padding: 0px\; vertical-align: baseline\; color: rgb(70\, 120\, 134)\;"><a data-linkindex="0" fr-original-style="border: 0px\; font: inherit\; margin: 0px\; padding: 0px\; vertical-align: baseline\; color: rgb(70\, 120\, 134)\;" href="mailto:cl.sl.area.6@irs.gov" style="border: 0px\; font: inherit\; margin: 0px\; padding: 0px\; vertical-align: baseline\; color: rgb(70\, 120\, 134)\; user-select: auto\;" title="mailto:cl.sl.area.6@irs.gov"><u>cl.sl.area.6@irs.gov</u></a></span></p><p style='color: rgb(36\, 36\, 36)\; font-family: "Segoe UI"\, "Segoe UI Web (West European)"\, -apple-system\, BlinkMacSystemFont\, Roboto\, "Helvetica Neue"\, sans-serif\; font-size: 15px\; font-style: normal\; font-variant-ligatures: normal\; font-variant-caps: normal\; font-weight: 400\; letter-spacing: normal\; orphans: 2\; text-indent: 0px\; text-transform: none\; widows: 2\; word-spacing: 0px\; -webkit-text-stroke-width: 0px\; white-space: normal\; text-decoration-thickness: initial\; text-decoration-style: initial\; text-decoration-color: initial\; text-align: left\; background-color: white\; margin: 0px\;'><span style="border: 0px\; font-style: inherit\; font-variant: inherit\; font-weight: inherit\; font-stretch: inherit\; font-size: 11pt\; line-height: inherit\; font-family: Aptos\, sans-serif\; font-optical-sizing: inherit\; font-size-adjust: inherit\; font-kerning: inherit\; font-feature-settings: inherit\; font-variation-settings: inherit\; font-language-override: inherit\; margin: 0px\; padding: 0px\; vertical-align: baseline\; color: rgb(70\, 120\, 134)\;"><a data-auth="NotApplicable" data-linkindex="1" fr-original-style="border: 0px\; font: inherit\; margin: 0px\; padding: 0px\; vertical-align: baseline\; color: rgb(70\, 120\, 134)\;" href="https://events.gcc.teams.microsoft.com/event/ba8c99e0-89cb-4760-b073-6b8565e86bbf@f2372b85-8802-490c-b196-7b96c73fee3b" rel="noopener noreferrer" style="border: 0px\; font: inherit\; margin: 0px\; padding: 0px\; vertical-align: baseline\; color: rgb(70\, 120\, 134)\; user-select: auto\;" target="_blank" title="https://events.gcc.teams.microsoft.com/event/ba8c99e0-89cb-4760-b073-6b8565e86bbf@f2372b85-8802-490c-b196-7b96c73fee3b"><strong fr-original-style="" style="font-weight: 700\;"><u>Click here to Register</u></strong></a></span></p><p style='color: rgb(36\, 36\, 36)\; font-family: "Segoe UI"\, "Segoe UI Web (West European)"\, -apple-system\, BlinkMacSystemFont\, Roboto\, "Helvetica Neue"\, sans-serif\; font-size: 15px\; font-style: normal\; font-variant-ligatures: normal\; font-variant-caps: normal\; font-weight: 400\; letter-spacing: normal\; orphans: 2\; text-indent: 0px\; text-transform: none\; widows: 2\; word-spacing: 0px\; -webkit-text-stroke-width: 0px\; white-space: normal\; text-decoration-thickness: initial\; text-decoration-style: initial\; text-decoration-color: initial\; text-align: left\; background-color: white\; margin: 0px\;'><span style="border: 0px\; font-style: inherit\; font-variant: inherit\; font-weight: inherit\; font-stretch: inherit\; font-size: 11pt\; line-height: inherit\; font-family: Aptos\, sans-serif\; font-optical-sizing: inherit\; font-size-adjust: inherit\; font-kerning: inherit\; font-feature-settings: inherit\; font-variation-settings: inherit\; font-language-override: inherit\; margin: 0px\; padding: 0px\; vertical-align: baseline\; color: rgb(36\, 36\, 36)\;"><strong fr-original-style="" style="font-weight: 700\;">Sponsored by:</strong> IRS Stakeholder Liaison</span></p><p style='color: rgb(36\, 36\, 36)\; font-family: "Segoe UI"\, "Segoe UI Web (West European)"\, -apple-system\, BlinkMacSystemFont\, Roboto\, "Helvetica Neue"\, sans-serif\; font-size: 15px\; font-style: normal\; font-variant-ligatures: normal\; font-variant-caps: normal\; font-weight: 400\; letter-spacing: normal\; orphans: 2\; text-indent: 0px\; text-transform: none\; widows: 2\; word-spacing: 0px\; -webkit-text-stroke-width: 0px\; white-space: normal\; text-decoration-thickness: initial\; text-decoration-style: initial\; text-decoration-color: initial\; text-align: left\; background-color: white\; margin: 0px\;'><span style="border: 0px\; font-style: inherit\; font-variant: inherit\; font-weight: inherit\; font-stretch: inherit\; font-size: 11pt\; line-height: inherit\; font-family: Aptos\, sans-serif\; font-optical-sizing: inherit\; font-size-adjust: inherit\; font-kerning: inherit\; font-feature-settings: inherit\; font-variation-settings: inherit\; font-language-override: inherit\; margin: 0px\; padding: 0px\; vertical-align: baseline\; color: rgb(36\, 36\, 36)\;">&nbsp\;</span></p><p style='color: rgb(36\, 36\, 36)\; font-family: "Segoe UI"\, "Segoe UI Web (West European)"\, -apple-system\, BlinkMacSystemFont\, Roboto\, "Helvetica Neue"\, sans-serif\; font-size: 15px\; font-style: normal\; font-variant-ligatures: normal\; font-variant-caps: normal\; font-weight: 400\; letter-spacing: normal\; orphans: 2\; text-indent: 0px\; text-transform: none\; widows: 2\; word-spacing: 0px\; -webkit-text-stroke-width: 0px\; white-space: normal\; text-decoration-thickness: initial\; text-decoration-style: initial\; text-decoration-color: initial\; text-align: left\; background-color: white\; margin: 0px\;'><span style="border: 0px\; font-style: inherit\; font-variant: inherit\; font-weight: inherit\; font-stretch: inherit\; font-size: 11pt\; line-height: inherit\; font-family: Aptos\, sans-serif\; font-optical-sizing: inherit\; font-size-adjust: inherit\; font-kerning: inherit\; font-feature-settings: inherit\; font-variation-settings: inherit\; font-language-override: inherit\; margin: 0px\; padding: 0px\; vertical-align: baseline\; color: rgb(36\, 36\, 36)\;"><strong fr-original-style="" style="font-weight: 700\;">Date:</strong> 5/5/2026<br><strong fr-original-style="" style="font-weight: 700\;">Time:</strong> 12 p.m. Eastern\, 11 a.m. Central\, 10 a.m. Mountain\, 9 a.m. Arizona and Pacific\, 8 a.m. Alaska\, 7 a.m. Hawaii</span></p></body></html>
LOCATION:
UID:e.4360.1444991
SEQUENCE:3
DTSTAMP:20260424T092031Z
URL:https://members.asba.com/event-calendar/Details/understanding-federal-taxes-for-small-businesses-1711480?sourceTypeId=Hub
END:VEVENT
END:VCALENDAR
